BEGIN:VCALENDAR
VERSION:2.0
PRODID:-//wp-events-plugin.com//7.2.3.1//EN
TZID:America/Chicago
X-WR-TIMEZONE:America/Chicago
BEGIN:VEVENT
UID:30@kewaskum.lib.wi.us
DTSTART;TZID=America/Chicago:20230731T150000
DTEND;TZID=America/Chicago:20230731T160000
DTSTAMP:20230609T144105Z
URL:https://kewaskum.lib.wi.us/events/teen-hangouts-8/
SUMMARY:Teen Hangouts
DESCRIPTION:\n\nJoin us for some fun summer teen activity.\n\nHarry Potter'
 s Birthday Bash - July 31\n\n\n\n\n\nPrograms are best suited for those en
 tering 6th grade and up. No registration is required. Located in the Commu
 nity Room.\n\n\n\n\n\n&nbsp\;\n\n\n
CATEGORIES:Teen
LOCATION:Kewaskum Public Library\, 1225 Fond du Lac Ave\, Kewaskum\, WI\, 5
 3040\, United States
X-APPLE-STRUCTURED-LOCATION;VALUE=URI;X-ADDRESS=1225 Fond du Lac Ave\, Kewa
 skum\, WI\, 53040\, United States;X-APPLE-RADIUS=100;X-TITLE=Kewaskum Publ
 ic Library:geo:0,0
END:VEVENT
BEGIN:VTIMEZONE
TZID:America/Chicago
X-LIC-LOCATION:America/Chicago
BEGIN:DAYLIGHT
DTSTART:20230312T030000
TZOFFSETFROM:-0600
TZOFFSETTO:-0500
TZNAME:CDT
END:DAYLIGHT
END:VTIMEZONE
END:VCALENDAR