BEGIN:VCALENDAR
VERSION:2.0
PRODID:-//wp-events-plugin.com//7.2.3.1//EN
TZID:America/Chicago
X-WR-TIMEZONE:America/Chicago
BEGIN:VEVENT
UID:7@kewaskum.lib.wi.us
DTSTART;TZID=America/Chicago:20230518T160000
DTEND;TZID=America/Chicago:20230518T170000
DTSTAMP:20230411T192756Z
URL:https://kewaskum.lib.wi.us/events/spring-garden-tea-party/
SUMMARY:Spring Garden Tea Party
DESCRIPTION:Spring is here\, a tea party is near! Join us for a flower-riff
 ic celebration of spring\n\nwith dainty snacks provided. Children’s prog
 rams are open to all children and their families but best suited for eleme
 ntary schoolers.
LOCATION:Kewaskum Public Library\, 1225 Fond du Lac Ave\, Kewaskum\, WI\, 5
 3040\, United States
X-APPLE-STRUCTURED-LOCATION;VALUE=URI;X-ADDRESS=1225 Fond du Lac Ave\, Kewa
 skum\, WI\, 53040\, United States;X-APPLE-RADIUS=100;X-TITLE=Kewaskum Publ
 ic Library:geo:0,0
END:VEVENT
BEGIN:VTIMEZONE
TZID:America/Chicago
X-LIC-LOCATION:America/Chicago
BEGIN:DAYLIGHT
DTSTART:20230312T030000
TZOFFSETFROM:-0600
TZOFFSETTO:-0500
TZNAME:CDT
END:DAYLIGHT
END:VTIMEZONE
END:VCALENDAR