BEGIN:VCALENDAR
VERSION:2.0
PRODID:-//wp-events-plugin.com//7.2.3.1//EN
TZID:America/Chicago
X-WR-TIMEZONE:America/Chicago
BEGIN:VEVENT
UID:240@kewaskum.lib.wi.us
DTSTART;TZID=America/Chicago:20241026T150000
DTEND;TZID=America/Chicago:20241026T170000
DTSTAMP:20241007T221227Z
URL:https://kewaskum.lib.wi.us/events/s-book-tacular/
SUMMARY:S-Book-Tacular
DESCRIPTION:Fill their bellies before they fill their bags!\n\nStop in for 
 uncrustables and healthy snacks to fuel your trick-or-treaters.\n\nGrab a 
 treat bag decorated by Kewaskum students. \n\nFill bellies with healthy sn
 acks before THEY fill THEIR treat bags.\nPick up glow necklaces and REFLEC
 TIVE stickers. \n\nWe will be outside the main entrance\, \nweather permit
 ting or inside the lobby if not. \n\nSuggested donations of $1 for each it
 em. \nProceeds benefit the Kewaskum Public Library Foundation.
CATEGORIES:Family
LOCATION:Kewaskum Public Library\, 1225 Fond du Lac Ave\, Kewaskum\, WI\, 5
 3040\, United States
X-APPLE-STRUCTURED-LOCATION;VALUE=URI;X-ADDRESS=1225 Fond du Lac Ave\, Kewa
 skum\, WI\, 53040\, United States;X-APPLE-RADIUS=100;X-TITLE=Kewaskum Publ
 ic Library:geo:0,0
END:VEVENT
BEGIN:VTIMEZONE
TZID:America/Chicago
X-LIC-LOCATION:America/Chicago
BEGIN:DAYLIGHT
DTSTART:20240310T030000
TZOFFSETFROM:-0600
TZOFFSETTO:-0500
TZNAME:CDT
END:DAYLIGHT
END:VTIMEZONE
END:VCALENDAR