BEGIN:VCALENDAR
VERSION:2.0
PRODID:-//wp-events-plugin.com//7.2.3.1//EN
TZID:America/Chicago
X-WR-TIMEZONE:America/Chicago
BEGIN:VEVENT
UID:228@kewaskum.lib.wi.us
DTSTART;TZID=America/Chicago:20241107T160000
DTEND;TZID=America/Chicago:20241107T170000
DTSTAMP:20240925T144419Z
URL:https://kewaskum.lib.wi.us/events/lego-laboratory-2/
SUMMARY:LEGO Laboratory
DESCRIPTION:Join us the first Thursday of each month from 4 PM-5 PM to buil
 d a LEGO creation based on the monthly theme.  November's theme is dinosau
 rs.\n\nRegistration is required.  Give us a call at 262-667-2930\, email u
 s at kewaskum@monarchlibraries.org or stop by the library to sign up.\n\nL
 EGO Laboratory will be held at our new location\, 1225 Fond du Lac Avenue.
   They will be held in our new Community Room on the lower level.  Space i
 s accessible by stairs only.  If you require accessible accommodations\, p
 lease contact us at (262) 667-2930 at least 48 hours prior to the event.\n
CATEGORIES:Children,STEAM
LOCATION:Kewaskum Public Library\, 1225 Fond du Lac Ave\, Kewaskum\, WI\, 5
 3040\, United States
X-APPLE-STRUCTURED-LOCATION;VALUE=URI;X-ADDRESS=1225 Fond du Lac Ave\, Kewa
 skum\, WI\, 53040\, United States;X-APPLE-RADIUS=100;X-TITLE=Kewaskum Publ
 ic Library:geo:0,0
END:VEVENT
BEGIN:VTIMEZONE
TZID:America/Chicago
X-LIC-LOCATION:America/Chicago
BEGIN:STANDARD
DTSTART:20241103T010000
TZOFFSETFROM:-0500
TZOFFSETTO:-0600
TZNAME:CST
END:STANDARD
END:VTIMEZONE
END:VCALENDAR