BEGIN:VCALENDAR
VERSION:2.0
PRODID:-//wp-events-plugin.com//7.2.3.1//EN
TZID:America/Chicago
X-WR-TIMEZONE:America/Chicago
BEGIN:VEVENT
UID:223@kewaskum.lib.wi.us
DTSTART;TZID=America/Chicago:20241015T163000
DTEND;TZID=America/Chicago:20241015T171500
DTSTAMP:20240916T224106Z
URL:https://kewaskum.lib.wi.us/events/healthy-walking-workshop/
SUMMARY:Healthy Walking Workshop
DESCRIPTION:Licensed Athletic Trainer\, Bryana Kudek\, will dive into the b
 enefits of walking\, discuss the muscle groups used and share the importan
 ce of body maintenance and injury prevention.\n\nThis workshop will requir
 e some movement\, but don't be scared!! You will walk away with exercises 
 that will help with overall movement\, better your walking performance\, a
 nd prevent injury too! That being said\, please dress in comfortable "work
 out" attire.\n\nRegistration required. Please sign up on this link.  You c
 an also register at the library \nin-person\, by phone or email.
CATEGORIES:Adult
LOCATION:Kewaskum Public Library\, 1225 Fond du Lac Ave\, Kewaskum\, WI\, 5
 3040\, United States
X-APPLE-STRUCTURED-LOCATION;VALUE=URI;X-ADDRESS=1225 Fond du Lac Ave\, Kewa
 skum\, WI\, 53040\, United States;X-APPLE-RADIUS=100;X-TITLE=Kewaskum Publ
 ic Library:geo:0,0
END:VEVENT
BEGIN:VTIMEZONE
TZID:America/Chicago
X-LIC-LOCATION:America/Chicago
BEGIN:DAYLIGHT
DTSTART:20240310T030000
TZOFFSETFROM:-0600
TZOFFSETTO:-0500
TZNAME:CDT
END:DAYLIGHT
END:VTIMEZONE
END:VCALENDAR